View In:
ArcGIS JavaScript
ArcGIS Online Map Viewer
ArcGIS Earth
Service Description: Hazards/tas_NAM_12_ERA5mon_202101_202112_crf
Name: Hazards/tas_NAM_12_ERA5mon_202101_202112_crf
Description:
Single Fused Map Cache: false
Extent:
XMin: -4122000.0
YMin: -3918000.0
XMax: 4122000.0
YMax: 3918000.0
Spatial Reference: 0
(0)
LatestVCSWkid(0)
Initial Extent:
XMin: -4122000.0
YMin: -3918000.0
XMax: 4122000.0
YMax: 3918000.0
Spatial Reference: 0
(0)
LatestVCSWkid(0)
Full Extent:
XMin: -4122000.0
YMin: -3918000.0
XMax: 4122000.0
YMax: 3918000.0
Spatial Reference: 0
(0)
LatestVCSWkid(0)
Time Info:
Start Time Field: StdTime
End Time Field: StdTime_Max
Time Extent:
[2021/01/01 00:00:00 UTC, 2023/12/31 23:00:00 UTC]
Time Reference:
N/A
Pixel Size X: 12000.0
Pixel Size Y: 12000.0
Band Count: 1
Pixel Type: F32
RasterFunction Infos: {"rasterFunctionInfos": [{
"name": "None",
"description": "",
"help": ""
}]}
Mensuration Capabilities: Basic
Inspection Capabilities:
Has Histograms: true
Has Colormap: false
Has Multi Dimensions : true
Rendering Rule:
Min Scale: 0
Max Scale: 0
Copyright Text:
Service Data Type: esriImageServiceDataTypeScientific
Min Values: 223.82142639160156
Max Values: 314.1343994140625
Mean Values: 284.04126740474896
Standard Deviation Values: 15.243059450215274
Object ID Field:
Fields:
None
Default Mosaic Method: Center
Allowed Mosaic Methods:
SortField:
SortValue: null
Mosaic Operator: First
Default Compression Quality: 75
Default Resampling Method: Bilinear
Max Record Count: null
Max Image Height: 4100
Max Image Width: 15000
Max Download Image Count: null
Max Mosaic Image Count: null
Allow Raster Function: true
Allow Copy: true
Allow Analysis: true
Allow Compute TiePoints: false
Supports Statistics: false
Supports Advanced Queries: false
Use StandardizedQueries: true
Raster Type Infos:
Name: Raster Dataset
Description: Supports all ArcGIS Raster Datasets
Help:
Has Raster Attribute Table: false
Edit Fields Info: null
Ownership Based AccessControl For Rasters: null
Child Resources:
Info
Histograms
Statistics
Key Properties
Legend
Raster Function Infos
Multidimensional Info
Slices
Supported Operations:
Export Image
Identify
Measure
Compute Histograms
Compute Statistics Histograms
Get Samples
Compute Class Statistics
Query Boundary
Compute Pixel Location
Compute Angles
Validate
Project